BEGIN:VCALENDAR
VERSION:2.0
PRODID:-//Pittville School - ECPv6.15.20//NONSGML v1.0//EN
CALSCALE:GREGORIAN
METHOD:PUBLISH
X-WR-CALNAME:Pittville School
X-ORIGINAL-URL:https://www.pittville.gloucs.sch.uk
X-WR-CALDESC:Events for Pittville School
REFRESH-INTERVAL;VALUE=DURATION:PT1H
X-Robots-Tag:noindex
X-PUBLISHED-TTL:PT1H
BEGIN:VTIMEZONE
TZID:Europe/London
BEGIN:DAYLIGHT
TZOFFSETFROM:+0000
TZOFFSETTO:+0100
TZNAME:BST
DTSTART:20240331T010000
END:DAYLIGHT
BEGIN:STANDARD
TZOFFSETFROM:+0100
TZOFFSETTO:+0000
TZNAME:GMT
DTSTART:20241027T010000
END:STANDARD
BEGIN:DAYLIGHT
TZOFFSETFROM:+0000
TZOFFSETTO:+0100
TZNAME:BST
DTSTART:20250330T010000
END:DAYLIGHT
BEGIN:STANDARD
TZOFFSETFROM:+0100
TZOFFSETTO:+0000
TZNAME:GMT
DTSTART:20251026T010000
END:STANDARD
BEGIN:DAYLIGHT
TZOFFSETFROM:+0000
TZOFFSETTO:+0100
TZNAME:BST
DTSTART:20260329T010000
END:DAYLIGHT
BEGIN:STANDARD
TZOFFSETFROM:+0100
TZOFFSETTO:+0000
TZNAME:GMT
DTSTART:20261025T010000
END:STANDARD
END:VTIMEZONE
BEGIN:VEVENT
DTSTART;VALUE=DATE:20250702
DTEND;VALUE=DATE:20250703
DTSTAMP:20260422T005822
CREATED:20250124T121446Z
LAST-MODIFIED:20250124T121446Z
UID:3065-1751414400-1751500799@www.pittville.gloucs.sch.uk
SUMMARY:Y6 Induction Evening
DESCRIPTION:
URL:https://www.pittville.gloucs.sch.uk/event/y6-induction-evening/
END:VEVENT
BEGIN:VEVENT
DTSTART;VALUE=DATE:20250702
DTEND;VALUE=DATE:20250703
DTSTAMP:20260422T005822
CREATED:20250124T121518Z
LAST-MODIFIED:20250124T121518Z
UID:3067-1751414400-1751500799@www.pittville.gloucs.sch.uk
SUMMARY:Y10 MFL mock speaking
DESCRIPTION:
URL:https://www.pittville.gloucs.sch.uk/event/y10-mfl-mock-speaking/
END:VEVENT
BEGIN:VEVENT
DTSTART;VALUE=DATE:20250702
DTEND;VALUE=DATE:20250703
DTSTAMP:20260422T005822
CREATED:20250124T121546Z
LAST-MODIFIED:20250124T121546Z
UID:3069-1751414400-1751500799@www.pittville.gloucs.sch.uk
SUMMARY:Y10 Bath Fieldwork
DESCRIPTION:
URL:https://www.pittville.gloucs.sch.uk/event/y10-bath-fieldwork/
END:VEVENT
END:VCALENDAR