BEGIN:VCALENDAR
VERSION:2.0
PRODID:-//Pittville School - ECPv6.15.20//NONSGML v1.0//EN
CALSCALE:GREGORIAN
METHOD:PUBLISH
X-ORIGINAL-URL:https://www.pittville.gloucs.sch.uk
X-WR-CALDESC:Events for Pittville School
REFRESH-INTERVAL;VALUE=DURATION:PT1H
X-Robots-Tag:noindex
X-PUBLISHED-TTL:PT1H
BEGIN:VTIMEZONE
TZID:Europe/London
BEGIN:DAYLIGHT
TZOFFSETFROM:+0000
TZOFFSETTO:+0100
TZNAME:BST
DTSTART:20250330T010000
END:DAYLIGHT
BEGIN:STANDARD
TZOFFSETFROM:+0100
TZOFFSETTO:+0000
TZNAME:GMT
DTSTART:20251026T010000
END:STANDARD
BEGIN:DAYLIGHT
TZOFFSETFROM:+0000
TZOFFSETTO:+0100
TZNAME:BST
DTSTART:20260329T010000
END:DAYLIGHT
BEGIN:STANDARD
TZOFFSETFROM:+0100
TZOFFSETTO:+0000
TZNAME:GMT
DTSTART:20261025T010000
END:STANDARD
BEGIN:DAYLIGHT
TZOFFSETFROM:+0000
TZOFFSETTO:+0100
TZNAME:BST
DTSTART:20270328T010000
END:DAYLIGHT
BEGIN:STANDARD
TZOFFSETFROM:+0100
TZOFFSETTO:+0000
TZNAME:GMT
DTSTART:20271031T010000
END:STANDARD
END:VTIMEZONE
BEGIN:VEVENT
DTSTART;VALUE=DATE:20260701
DTEND;VALUE=DATE:20260702
DTSTAMP:20260423T223645
CREATED:20260115T135726Z
LAST-MODIFIED:20260115T135726Z
UID:3655-1782864000-1782950399@www.pittville.gloucs.sch.uk
SUMMARY:Y10 Fieldwork
DESCRIPTION:
URL:https://www.pittville.gloucs.sch.uk/event/y10-fieldwork/
END:VEVENT
BEGIN:VEVENT
DTSTART;VALUE=DATE:20260701
DTEND;VALUE=DATE:20260703
DTSTAMP:20260423T223645
CREATED:20260115T135635Z
LAST-MODIFIED:20260115T135635Z
UID:3652-1782864000-1783036799@www.pittville.gloucs.sch.uk
SUMMARY:Y6 Induction Day
DESCRIPTION:
URL:https://www.pittville.gloucs.sch.uk/event/y6-induction-day-2/
END:VEVENT
END:VCALENDAR