BEGIN:VCALENDAR
VERSION:2.0
PRODID:-//Pittville School - ECPv6.15.20//NONSGML v1.0//EN
CALSCALE:GREGORIAN
METHOD:PUBLISH
X-ORIGINAL-URL:https://www.pittville.gloucs.sch.uk
X-WR-CALDESC:Events for Pittville School
REFRESH-INTERVAL;VALUE=DURATION:PT1H
X-Robots-Tag:noindex
X-PUBLISHED-TTL:PT1H
BEGIN:VTIMEZONE
TZID:Europe/London
BEGIN:DAYLIGHT
TZOFFSETFROM:+0000
TZOFFSETTO:+0100
TZNAME:BST
DTSTART:20220327T010000
END:DAYLIGHT
BEGIN:STANDARD
TZOFFSETFROM:+0100
TZOFFSETTO:+0000
TZNAME:GMT
DTSTART:20221030T010000
END:STANDARD
BEGIN:DAYLIGHT
TZOFFSETFROM:+0000
TZOFFSETTO:+0100
TZNAME:BST
DTSTART:20230326T010000
END:DAYLIGHT
BEGIN:STANDARD
TZOFFSETFROM:+0100
TZOFFSETTO:+0000
TZNAME:GMT
DTSTART:20231029T010000
END:STANDARD
BEGIN:DAYLIGHT
TZOFFSETFROM:+0000
TZOFFSETTO:+0100
TZNAME:BST
DTSTART:20240331T010000
END:DAYLIGHT
BEGIN:STANDARD
TZOFFSETFROM:+0100
TZOFFSETTO:+0000
TZNAME:GMT
DTSTART:20241027T010000
END:STANDARD
BEGIN:DAYLIGHT
TZOFFSETFROM:+0000
TZOFFSETTO:+0100
TZNAME:BST
DTSTART:20250330T010000
END:DAYLIGHT
BEGIN:STANDARD
TZOFFSETFROM:+0100
TZOFFSETTO:+0000
TZNAME:GMT
DTSTART:20251026T010000
END:STANDARD
END:VTIMEZONE
BEGIN:VEVENT
DTSTART;VALUE=DATE:20240408
DTEND;VALUE=DATE:20240427
DTSTAMP:20260422T121146
CREATED:20230714T101338Z
LAST-MODIFIED:20230714T101338Z
UID:1496-1712534400-1714175999@www.pittville.gloucs.sch.uk
SUMMARY:Year 9 Core formal summative assessment window
DESCRIPTION:
URL:https://www.pittville.gloucs.sch.uk/event/year-9-core-formal-summative-assessment-window/
CATEGORIES:Assessment
END:VEVENT
BEGIN:VEVENT
DTSTART;VALUE=DATE:20240226
DTEND;VALUE=DATE:20240309
DTSTAMP:20260422T121146
CREATED:20230714T095418Z
LAST-MODIFIED:20230714T095430Z
UID:1459-1708905600-1709942399@www.pittville.gloucs.sch.uk
SUMMARY:Year 11 mock exams
DESCRIPTION:
URL:https://www.pittville.gloucs.sch.uk/event/year-11-mock-exams-2/
CATEGORIES:Assessment
END:VEVENT
BEGIN:VEVENT
DTSTART;VALUE=DATE:20240108
DTEND;VALUE=DATE:20240120
DTSTAMP:20260422T121146
CREATED:20230714T093014Z
LAST-MODIFIED:20230714T093014Z
UID:1405-1704672000-1705708799@www.pittville.gloucs.sch.uk
SUMMARY:Year 8 formal summative assessment window
DESCRIPTION:
URL:https://www.pittville.gloucs.sch.uk/event/year-8-formal-summative-assessment-window/
CATEGORIES:Assessment
END:VEVENT
BEGIN:VEVENT
DTSTART;VALUE=DATE:20231120
DTEND;VALUE=DATE:20231202
DTSTAMP:20260422T121146
CREATED:20230714T085623Z
LAST-MODIFIED:20230714T085623Z
UID:1350-1700438400-1701475199@www.pittville.gloucs.sch.uk
SUMMARY:Year 11 mock exams
DESCRIPTION:
URL:https://www.pittville.gloucs.sch.uk/event/year-11-mock-exams/
CATEGORIES:Assessment
END:VEVENT
BEGIN:VEVENT
DTSTART;VALUE=DATE:20231106
DTEND;VALUE=DATE:20231118
DTSTAMP:20260422T121146
CREATED:20230714T084653Z
LAST-MODIFIED:20230714T085143Z
UID:1341-1699228800-1700265599@www.pittville.gloucs.sch.uk
SUMMARY:Year 9 formal summative assessment window
DESCRIPTION:
URL:https://www.pittville.gloucs.sch.uk/event/year-9-formal-summative-assessment-window/
CATEGORIES:Assessment
END:VEVENT
END:VCALENDAR