BEGIN:VCALENDAR
VERSION:2.0
PRODID:-//Pittville School - ECPv6.15.20//NONSGML v1.0//EN
CALSCALE:GREGORIAN
METHOD:PUBLISH
X-WR-CALNAME:Pittville School
X-ORIGINAL-URL:https://www.pittville.gloucs.sch.uk
X-WR-CALDESC:Events for Pittville School
REFRESH-INTERVAL;VALUE=DURATION:PT1H
X-Robots-Tag:noindex
X-PUBLISHED-TTL:PT1H
BEGIN:VTIMEZONE
TZID:Europe/London
BEGIN:DAYLIGHT
TZOFFSETFROM:+0000
TZOFFSETTO:+0100
TZNAME:BST
DTSTART:20220327T010000
END:DAYLIGHT
BEGIN:STANDARD
TZOFFSETFROM:+0100
TZOFFSETTO:+0000
TZNAME:GMT
DTSTART:20221030T010000
END:STANDARD
BEGIN:DAYLIGHT
TZOFFSETFROM:+0000
TZOFFSETTO:+0100
TZNAME:BST
DTSTART:20230326T010000
END:DAYLIGHT
BEGIN:STANDARD
TZOFFSETFROM:+0100
TZOFFSETTO:+0000
TZNAME:GMT
DTSTART:20231029T010000
END:STANDARD
BEGIN:DAYLIGHT
TZOFFSETFROM:+0000
TZOFFSETTO:+0100
TZNAME:BST
DTSTART:20240331T010000
END:DAYLIGHT
BEGIN:STANDARD
TZOFFSETFROM:+0100
TZOFFSETTO:+0000
TZNAME:GMT
DTSTART:20241027T010000
END:STANDARD
END:VTIMEZONE
BEGIN:VEVENT
DTSTART;VALUE=DATE:20231027
DTEND;VALUE=DATE:20231028
DTSTAMP:20260421T032032
CREATED:20230713T151223Z
LAST-MODIFIED:20230713T151223Z
UID:1333-1698364800-1698451199@www.pittville.gloucs.sch.uk
SUMMARY:Inset day
DESCRIPTION:
URL:https://www.pittville.gloucs.sch.uk/event/inset-day/
END:VEVENT
BEGIN:VEVENT
DTSTART;VALUE=DATE:20231024
DTEND;VALUE=DATE:20231025
DTSTAMP:20260421T032032
CREATED:20230713T150831Z
LAST-MODIFIED:20230713T150831Z
UID:1325-1698105600-1698191999@www.pittville.gloucs.sch.uk
SUMMARY:Y11 Macbeth trip
DESCRIPTION:
URL:https://www.pittville.gloucs.sch.uk/event/y11-macbeth-trip/
END:VEVENT
BEGIN:VEVENT
DTSTART;VALUE=DATE:20231019
DTEND;VALUE=DATE:20231020
DTSTAMP:20260421T032032
CREATED:20230713T150703Z
LAST-MODIFIED:20230713T150703Z
UID:1321-1697673600-1697759999@www.pittville.gloucs.sch.uk
SUMMARY:Year 11 progress evening (in person)
DESCRIPTION:
URL:https://www.pittville.gloucs.sch.uk/event/year-11-progress-evening-in-person/
END:VEVENT
BEGIN:VEVENT
DTSTART;VALUE=DATE:20231018
DTEND;VALUE=DATE:20231019
DTSTAMP:20260421T032032
CREATED:20230713T150507Z
LAST-MODIFIED:20230713T150507Z
UID:1317-1697587200-1697673599@www.pittville.gloucs.sch.uk
SUMMARY:Year 11 data entry deadline
DESCRIPTION:
URL:https://www.pittville.gloucs.sch.uk/event/year-11-data-entry-deadline/
END:VEVENT
BEGIN:VEVENT
DTSTART;VALUE=DATE:20231018
DTEND;VALUE=DATE:20231019
DTSTAMP:20260421T032032
CREATED:20230713T150440Z
LAST-MODIFIED:20230713T150440Z
UID:1315-1697587200-1697673599@www.pittville.gloucs.sch.uk
SUMMARY:Year 7 - 11 ATL deadline
DESCRIPTION:
URL:https://www.pittville.gloucs.sch.uk/event/year-7-11-atl-deadline/
END:VEVENT
BEGIN:VEVENT
DTSTART;VALUE=DATE:20231016
DTEND;VALUE=DATE:20231017
DTSTAMP:20260421T032032
CREATED:20230713T150138Z
LAST-MODIFIED:20230713T150138Z
UID:1309-1697414400-1697500799@www.pittville.gloucs.sch.uk
SUMMARY:Year 11 Assessment information home
DESCRIPTION:
URL:https://www.pittville.gloucs.sch.uk/event/year-11-assessment-information-home/
END:VEVENT
BEGIN:VEVENT
DTSTART;TZID=Europe/London:20231012T190000
DTEND;TZID=Europe/London:20231012T203000
DTSTAMP:20260421T032032
CREATED:20230713T143022Z
LAST-MODIFIED:20230915T121517Z
UID:1271-1697137200-1697142600@www.pittville.gloucs.sch.uk
SUMMARY:Year 7 disco
DESCRIPTION:
URL:https://www.pittville.gloucs.sch.uk/event/year-7-disco/
END:VEVENT
BEGIN:VEVENT
DTSTART;VALUE=DATE:20231006
DTEND;VALUE=DATE:20231007
DTSTAMP:20260421T032032
CREATED:20230713T145600Z
LAST-MODIFIED:20230713T145600Z
UID:1303-1696550400-1696636799@www.pittville.gloucs.sch.uk
SUMMARY:Exam meetings window closes
DESCRIPTION:
URL:https://www.pittville.gloucs.sch.uk/event/exam-meetings-window-closes/
END:VEVENT
BEGIN:VEVENT
DTSTART;VALUE=DATE:20231006
DTEND;VALUE=DATE:20231007
DTSTAMP:20260421T032032
CREATED:20230713T145439Z
LAST-MODIFIED:20230713T145439Z
UID:1301-1696550400-1696636799@www.pittville.gloucs.sch.uk
SUMMARY:RSHE DROP DOWN DAY
DESCRIPTION:
URL:https://www.pittville.gloucs.sch.uk/event/rshe-drop-down-day/
END:VEVENT
BEGIN:VEVENT
DTSTART;TZID=Europe/London:20231005T160000
DTEND;TZID=Europe/London:20231005T190000
DTSTAMP:20260421T032032
CREATED:20230713T145316Z
LAST-MODIFIED:20230915T101951Z
UID:1297-1696521600-1696532400@www.pittville.gloucs.sch.uk
SUMMARY:Year 7 tutor evening (in person)
DESCRIPTION:
URL:https://www.pittville.gloucs.sch.uk/event/year-7-tutor-evening-in-person/
END:VEVENT
BEGIN:VEVENT
DTSTART;TZID=Europe/London:20231004T180000
DTEND;TZID=Europe/London:20231004T190000
DTSTAMP:20260421T032032
CREATED:20230713T145041Z
LAST-MODIFIED:20230907T111428Z
UID:1293-1696442400-1696446000@www.pittville.gloucs.sch.uk
SUMMARY:Year 11 year ahead meeting
DESCRIPTION:
URL:https://www.pittville.gloucs.sch.uk/event/year-11-year-ahead-meeting/
END:VEVENT
BEGIN:VEVENT
DTSTART;VALUE=DATE:20231002
DTEND;VALUE=DATE:20231003
DTSTAMP:20260421T032032
CREATED:20230713T145009Z
LAST-MODIFIED:20230713T145009Z
UID:1291-1696204800-1696291199@www.pittville.gloucs.sch.uk
SUMMARY:Year 9 Assessment information goes home
DESCRIPTION:
URL:https://www.pittville.gloucs.sch.uk/event/year-9-assessment-information-goes-home/
END:VEVENT
BEGIN:VEVENT
DTSTART;TZID=Europe/London:20230927T180000
DTEND;TZID=Europe/London:20230927T200000
DTSTAMP:20260421T032032
CREATED:20230713T144814Z
LAST-MODIFIED:20230915T102639Z
UID:1289-1695837600-1695844800@www.pittville.gloucs.sch.uk
SUMMARY:Open evening
DESCRIPTION:
URL:https://www.pittville.gloucs.sch.uk/event/open-evening/
END:VEVENT
BEGIN:VEVENT
DTSTART;VALUE=DATE:20230925
DTEND;VALUE=DATE:20230930
DTSTAMP:20260421T032032
CREATED:20230713T143529Z
LAST-MODIFIED:20230713T143529Z
UID:1281-1695600000-1696031999@www.pittville.gloucs.sch.uk
SUMMARY:Open Week
DESCRIPTION:
URL:https://www.pittville.gloucs.sch.uk/event/open-week/
END:VEVENT
BEGIN:VEVENT
DTSTART;TZID=Europe/London:20230913T180000
DTEND;TZID=Europe/London:20230913T190000
DTSTAMP:20260421T032032
CREATED:20230621T100421Z
LAST-MODIFIED:20230907T111327Z
UID:1083-1694628000-1694631600@www.pittville.gloucs.sch.uk
SUMMARY:Year 10 year ahead evening
DESCRIPTION:
URL:https://www.pittville.gloucs.sch.uk/event/year-10-year-ahead-evening/
END:VEVENT
BEGIN:VEVENT
DTSTART;TZID=Europe/London:20230912T180000
DTEND;TZID=Europe/London:20230912T190000
DTSTAMP:20260421T032032
CREATED:20230621T100343Z
LAST-MODIFIED:20230907T100324Z
UID:1081-1694541600-1694545200@www.pittville.gloucs.sch.uk
SUMMARY:Year 9 year ahead evening
DESCRIPTION:
URL:https://www.pittville.gloucs.sch.uk/event/year-9-year-ahead-evening/
END:VEVENT
BEGIN:VEVENT
DTSTART;TZID=Europe/London:20230911T180000
DTEND;TZID=Europe/London:20230911T190000
DTSTAMP:20260421T032032
CREATED:20230621T100129Z
LAST-MODIFIED:20230907T100206Z
UID:1077-1694455200-1694458800@www.pittville.gloucs.sch.uk
SUMMARY:Years 7 & 8 year ahead evening
DESCRIPTION:
URL:https://www.pittville.gloucs.sch.uk/event/years-7-8-year-ahead-evening/
END:VEVENT
BEGIN:VEVENT
DTSTART;VALUE=DATE:20230905
DTEND;VALUE=DATE:20230906
DTSTAMP:20260421T032032
CREATED:20230621T094101Z
LAST-MODIFIED:20230621T095616Z
UID:1070-1693872000-1693958399@www.pittville.gloucs.sch.uk
SUMMARY:Year 7 & 11 only in school
DESCRIPTION:
URL:https://www.pittville.gloucs.sch.uk/event/year-7-11-only-in-school/
END:VEVENT
BEGIN:VEVENT
DTSTART;VALUE=DATE:20230904
DTEND;VALUE=DATE:20230905
DTSTAMP:20260421T032032
CREATED:20230713T151335Z
LAST-MODIFIED:20230713T151335Z
UID:1337-1693785600-1693871999@www.pittville.gloucs.sch.uk
SUMMARY:Inset
DESCRIPTION:
URL:https://www.pittville.gloucs.sch.uk/event/inset/
END:VEVENT
BEGIN:VEVENT
DTSTART;VALUE=DATE:20230718
DTEND;VALUE=DATE:20230719
DTSTAMP:20260421T032032
CREATED:20230714T105236Z
LAST-MODIFIED:20230714T105254Z
UID:1592-1689638400-1689724799@www.pittville.gloucs.sch.uk
SUMMARY:Year 10 work experience Activities day 3
DESCRIPTION:
URL:https://www.pittville.gloucs.sch.uk/event/year-10-work-experience-activities-day-3/
END:VEVENT
BEGIN:VEVENT
DTSTART;VALUE=DATE:20230324
DTEND;VALUE=DATE:20230325
DTSTAMP:20260421T032032
CREATED:20230322T091732Z
LAST-MODIFIED:20230322T091732Z
UID:632-1679616000-1679702399@www.pittville.gloucs.sch.uk
SUMMARY:School Closed
DESCRIPTION:Closed Test
URL:https://www.pittville.gloucs.sch.uk/event/school-closed/
END:VEVENT
END:VCALENDAR