BEGIN:VCALENDAR
VERSION:2.0
PRODID:-//Pittville School - ECPv6.15.20//NONSGML v1.0//EN
CALSCALE:GREGORIAN
METHOD:PUBLISH
X-WR-CALNAME:Pittville School
X-ORIGINAL-URL:https://www.pittville.gloucs.sch.uk
X-WR-CALDESC:Events for Pittville School
REFRESH-INTERVAL;VALUE=DURATION:PT1H
X-Robots-Tag:noindex
X-PUBLISHED-TTL:PT1H
BEGIN:VTIMEZONE
TZID:Europe/London
BEGIN:DAYLIGHT
TZOFFSETFROM:+0000
TZOFFSETTO:+0100
TZNAME:BST
DTSTART:20250330T010000
END:DAYLIGHT
BEGIN:STANDARD
TZOFFSETFROM:+0100
TZOFFSETTO:+0000
TZNAME:GMT
DTSTART:20251026T010000
END:STANDARD
BEGIN:DAYLIGHT
TZOFFSETFROM:+0000
TZOFFSETTO:+0100
TZNAME:BST
DTSTART:20260329T010000
END:DAYLIGHT
BEGIN:STANDARD
TZOFFSETFROM:+0100
TZOFFSETTO:+0000
TZNAME:GMT
DTSTART:20261025T010000
END:STANDARD
BEGIN:DAYLIGHT
TZOFFSETFROM:+0000
TZOFFSETTO:+0100
TZNAME:BST
DTSTART:20270328T010000
END:DAYLIGHT
BEGIN:STANDARD
TZOFFSETFROM:+0100
TZOFFSETTO:+0000
TZNAME:GMT
DTSTART:20271031T010000
END:STANDARD
END:VTIMEZONE
BEGIN:VEVENT
DTSTART;VALUE=DATE:20260305
DTEND;VALUE=DATE:20260306
DTSTAMP:20260421T135604
CREATED:20260115T114851Z
LAST-MODIFIED:20260115T114851Z
UID:3600-1772668800-1772755199@www.pittville.gloucs.sch.uk
SUMMARY:World Book Day
DESCRIPTION:
URL:https://www.pittville.gloucs.sch.uk/event/world-book-day-2/
END:VEVENT
BEGIN:VEVENT
DTSTART;VALUE=DATE:20260305
DTEND;VALUE=DATE:20260306
DTSTAMP:20260421T135604
CREATED:20260115T115804Z
LAST-MODIFIED:20260115T115804Z
UID:3604-1772668800-1772755199@www.pittville.gloucs.sch.uk
SUMMARY:CEP - Changemakers
DESCRIPTION:
URL:https://www.pittville.gloucs.sch.uk/event/cep-changemakers/
END:VEVENT
BEGIN:VEVENT
DTSTART;VALUE=DATE:20260309
DTEND;VALUE=DATE:20260310
DTSTAMP:20260421T135604
CREATED:20260115T115030Z
LAST-MODIFIED:20260115T115030Z
UID:3602-1773014400-1773100799@www.pittville.gloucs.sch.uk
SUMMARY:British Science Week
DESCRIPTION:
URL:https://www.pittville.gloucs.sch.uk/event/british-science-week/
END:VEVENT
BEGIN:VEVENT
DTSTART;VALUE=DATE:20260310
DTEND;VALUE=DATE:20260311
DTSTAMP:20260421T135604
CREATED:20260115T115850Z
LAST-MODIFIED:20260115T115850Z
UID:3606-1773100800-1773187199@www.pittville.gloucs.sch.uk
SUMMARY:Y11 Kamal
DESCRIPTION:
URL:https://www.pittville.gloucs.sch.uk/event/y11-kamal/
END:VEVENT
BEGIN:VEVENT
DTSTART;VALUE=DATE:20260311
DTEND;VALUE=DATE:20260312
DTSTAMP:20260421T135604
CREATED:20260115T115921Z
LAST-MODIFIED:20260115T115921Z
UID:3608-1773187200-1773273599@www.pittville.gloucs.sch.uk
SUMMARY:RSHE DDD
DESCRIPTION:
URL:https://www.pittville.gloucs.sch.uk/event/rshe-ddd-3/
END:VEVENT
BEGIN:VEVENT
DTSTART;VALUE=DATE:20260316
DTEND;VALUE=DATE:20260317
DTSTAMP:20260421T135604
CREATED:20260115T115951Z
LAST-MODIFIED:20260115T115951Z
UID:3610-1773619200-1773705599@www.pittville.gloucs.sch.uk
SUMMARY:Y8 Science Trip
DESCRIPTION:
URL:https://www.pittville.gloucs.sch.uk/event/y8-science-trip/
END:VEVENT
BEGIN:VEVENT
DTSTART;VALUE=DATE:20260317
DTEND;VALUE=DATE:20260318
DTSTAMP:20260421T135604
CREATED:20260115T120027Z
LAST-MODIFIED:20260115T120027Z
UID:3612-1773705600-1773791999@www.pittville.gloucs.sch.uk
SUMMARY:Y9 Science Trip
DESCRIPTION:
URL:https://www.pittville.gloucs.sch.uk/event/y9-science-trip-2/
END:VEVENT
BEGIN:VEVENT
DTSTART;VALUE=DATE:20260319
DTEND;VALUE=DATE:20260320
DTSTAMP:20260421T135604
CREATED:20260115T120117Z
LAST-MODIFIED:20260115T120117Z
UID:3614-1773878400-1773964799@www.pittville.gloucs.sch.uk
SUMMARY:Cleeve 6th Form Interviews
DESCRIPTION:
URL:https://www.pittville.gloucs.sch.uk/event/cleeve-6th-form-interviews/
END:VEVENT
BEGIN:VEVENT
DTSTART;VALUE=DATE:20260326
DTEND;VALUE=DATE:20260327
DTSTAMP:20260421T135604
CREATED:20260115T130939Z
LAST-MODIFIED:20260115T130939Z
UID:3616-1774483200-1774569599@www.pittville.gloucs.sch.uk
SUMMARY:Dance Exam
DESCRIPTION:
URL:https://www.pittville.gloucs.sch.uk/event/dance-exam-2/
END:VEVENT
BEGIN:VEVENT
DTSTART;VALUE=DATE:20260326
DTEND;VALUE=DATE:20260327
DTSTAMP:20260421T135604
CREATED:20260115T131022Z
LAST-MODIFIED:20260115T131022Z
UID:3618-1774483200-1774569599@www.pittville.gloucs.sch.uk
SUMMARY:CEP-Young Designers
DESCRIPTION:
URL:https://www.pittville.gloucs.sch.uk/event/cep-young-designers-2/
END:VEVENT
END:VCALENDAR