BEGIN:VCALENDAR
VERSION:2.0
PRODID:-//Pittville School - ECPv6.15.20//NONSGML v1.0//EN
CALSCALE:GREGORIAN
METHOD:PUBLISH
X-WR-CALNAME:Pittville School
X-ORIGINAL-URL:https://www.pittville.gloucs.sch.uk
X-WR-CALDESC:Events for Pittville School
REFRESH-INTERVAL;VALUE=DURATION:PT1H
X-Robots-Tag:noindex
X-PUBLISHED-TTL:PT1H
BEGIN:VTIMEZONE
TZID:Europe/London
BEGIN:DAYLIGHT
TZOFFSETFROM:+0000
TZOFFSETTO:+0100
TZNAME:BST
DTSTART:20250330T010000
END:DAYLIGHT
BEGIN:STANDARD
TZOFFSETFROM:+0100
TZOFFSETTO:+0000
TZNAME:GMT
DTSTART:20251026T010000
END:STANDARD
BEGIN:DAYLIGHT
TZOFFSETFROM:+0000
TZOFFSETTO:+0100
TZNAME:BST
DTSTART:20260329T010000
END:DAYLIGHT
BEGIN:STANDARD
TZOFFSETFROM:+0100
TZOFFSETTO:+0000
TZNAME:GMT
DTSTART:20261025T010000
END:STANDARD
BEGIN:DAYLIGHT
TZOFFSETFROM:+0000
TZOFFSETTO:+0100
TZNAME:BST
DTSTART:20270328T010000
END:DAYLIGHT
BEGIN:STANDARD
TZOFFSETFROM:+0100
TZOFFSETTO:+0000
TZNAME:GMT
DTSTART:20271031T010000
END:STANDARD
END:VTIMEZONE
BEGIN:VEVENT
DTSTART;VALUE=DATE:20260430
DTEND;VALUE=DATE:20260502
DTSTAMP:20260423T192551
CREATED:20260115T131437Z
LAST-MODIFIED:20260115T131437Z
UID:3629-1777507200-1777679999@www.pittville.gloucs.sch.uk
SUMMARY:Y11 Textiles Group B Exam
DESCRIPTION:
URL:https://www.pittville.gloucs.sch.uk/event/y11-textiles-group-b-exam/
END:VEVENT
BEGIN:VEVENT
DTSTART;VALUE=DATE:20260430
DTEND;VALUE=DATE:20260502
DTSTAMP:20260423T192551
CREATED:20260115T131513Z
LAST-MODIFIED:20260115T131513Z
UID:3631-1777507200-1777679999@www.pittville.gloucs.sch.uk
SUMMARY:Y11 Art Exam
DESCRIPTION:
URL:https://www.pittville.gloucs.sch.uk/event/y11-art-exam/
END:VEVENT
BEGIN:VEVENT
DTSTART;VALUE=DATE:20260504
DTEND;VALUE=DATE:20260505
DTSTAMP:20260423T192551
CREATED:20260115T131551Z
LAST-MODIFIED:20260115T131551Z
UID:3633-1777852800-1777939199@www.pittville.gloucs.sch.uk
SUMMARY:Bank Holiday
DESCRIPTION:
URL:https://www.pittville.gloucs.sch.uk/event/bank-holiday-2/
END:VEVENT
BEGIN:VEVENT
DTSTART;VALUE=DATE:20260507
DTEND;VALUE=DATE:20260508
DTSTAMP:20260423T192551
CREATED:20260115T132224Z
LAST-MODIFIED:20260115T132224Z
UID:3635-1778112000-1778198399@www.pittville.gloucs.sch.uk
SUMMARY:Junior Maths Challenge
DESCRIPTION:
URL:https://www.pittville.gloucs.sch.uk/event/junior-maths-challenge/
END:VEVENT
BEGIN:VEVENT
DTSTART;VALUE=DATE:20260514
DTEND;VALUE=DATE:20260516
DTSTAMP:20260423T192551
CREATED:20260115T132305Z
LAST-MODIFIED:20260115T132305Z
UID:3638-1778716800-1778889599@www.pittville.gloucs.sch.uk
SUMMARY:DofE Silver
DESCRIPTION:
URL:https://www.pittville.gloucs.sch.uk/event/dofe-silver-3/
END:VEVENT
BEGIN:VEVENT
DTSTART;VALUE=DATE:20260522
DTEND;VALUE=DATE:20260523
DTSTAMP:20260423T192551
CREATED:20260115T132347Z
LAST-MODIFIED:20260115T132347Z
UID:3640-1779408000-1779494399@www.pittville.gloucs.sch.uk
SUMMARY:End Of Term Five
DESCRIPTION:
URL:https://www.pittville.gloucs.sch.uk/event/end-of-term-five-2/
END:VEVENT
END:VCALENDAR